BEGIN:VCALENDAR
VERSION:2.0
PRODID:-//Timbi - ECPv6.15.14//NONSGML v1.0//EN
CALSCALE:GREGORIAN
METHOD:PUBLISH
X-WR-CALNAME:Timbi
X-ORIGINAL-URL:https://timbi.be
X-WR-CALDESC:Évènements pour Timbi
REFRESH-INTERVAL;VALUE=DURATION:PT1H
X-Robots-Tag:noindex
X-PUBLISHED-TTL:PT1H
BEGIN:VTIMEZONE
TZID:Europe/Paris
BEGIN:DAYLIGHT
TZOFFSETFROM:+0100
TZOFFSETTO:+0200
TZNAME:CEST
DTSTART:20250330T010000
END:DAYLIGHT
BEGIN:STANDARD
TZOFFSETFROM:+0200
TZOFFSETTO:+0100
TZNAME:CET
DTSTART:20251026T010000
END:STANDARD
BEGIN:DAYLIGHT
TZOFFSETFROM:+0100
TZOFFSETTO:+0200
TZNAME:CEST
DTSTART:20260329T010000
END:DAYLIGHT
BEGIN:STANDARD
TZOFFSETFROM:+0200
TZOFFSETTO:+0100
TZNAME:CET
DTSTART:20261025T010000
END:STANDARD
BEGIN:DAYLIGHT
TZOFFSETFROM:+0100
TZOFFSETTO:+0200
TZNAME:CEST
DTSTART:20270328T010000
END:DAYLIGHT
BEGIN:STANDARD
TZOFFSETFROM:+0200
TZOFFSETTO:+0100
TZNAME:CET
DTSTART:20271031T010000
END:STANDARD
END:VTIMEZONE
BEGIN:VEVENT
DTSTART;TZID=Europe/Paris:20260607T140000
DTEND;TZID=Europe/Paris:20260607T153000
DTSTAMP:20260422T022420
CREATED:20251217T103814Z
LAST-MODIFIED:20260114T141235Z
UID:1961-1780840800-1780846200@timbi.be
SUMMARY:Atelier d’aquarelle en duo enfant/adulte - animaux marins
DESCRIPTION:Envie d’un moment créatif à partager autour du thème des animaux marins ? \nLors de cet atelier en duo\, vous peignez des animaux marins à l’aquarelle : poisson\, orque\, baleine\, tortue de mer\,… Les étapes sont expliquées simplement\, pour que chacun puisse prendre plaisir à peindre. \nL’atelier est accessible dès 6 ans et ne nécessite pas de prérequis. \nVous repartez avec vos illustrations et un fascicule pour prolonger l’expérience à la maison. \n🎨 Tout le matériel est fourni – Atelier accessible aux débutant·e·s comme aux initié·e·s\n📅 Dimanche 7 juin 2026 de 14h00 à 15h30\n📍 Centre Vitalia à Walhain
URL:https://timbi.be/agenda/atelier-aquarelle-enfant-adulte-animaux-marins/
LOCATION:Centre Vitalia à Walhain\, Rue Val d'Alvaux 2\, Walhain\, 1457
CATEGORIES:Animaux,Débutant.e.s,Duo Enfant Adulte,Fleurs et végétaux,Initié.e.s,Tous niveaux
ATTACH;FMTTYPE=image/png:https://timbi.be/wp-content/uploads/2025/12/Atelier_Aquarelle_Walhain_Animaux_Marins-scaled.png
ORGANIZER;CN="Typhanie Maurer":MAILTO:contact@timbi.be
END:VEVENT
END:VCALENDAR